BEGIN:VCALENDAR
VERSION:2.0
PRODID:-//American Legion San Dieguito Post 416 - ECPv6.15.20//NONSGML v1.0//EN
CALSCALE:GREGORIAN
METHOD:PUBLISH
X-ORIGINAL-URL:https://sdpost416.org
X-WR-CALDESC:Events for American Legion San Dieguito Post 416
REFRESH-INTERVAL;VALUE=DURATION:PT1H
X-Robots-Tag:noindex
X-PUBLISHED-TTL:PT1H
BEGIN:VTIMEZONE
TZID:America/Los_Angeles
BEGIN:DAYLIGHT
TZOFFSETFROM:-0800
TZOFFSETTO:-0700
TZNAME:PDT
DTSTART:20230312T100000
END:DAYLIGHT
BEGIN:STANDARD
TZOFFSETFROM:-0700
TZOFFSETTO:-0800
TZNAME:PST
DTSTART:20231105T090000
END:STANDARD
BEGIN:DAYLIGHT
TZOFFSETFROM:-0800
TZOFFSETTO:-0700
TZNAME:PDT
DTSTART:20240310T100000
END:DAYLIGHT
BEGIN:STANDARD
TZOFFSETFROM:-0700
TZOFFSETTO:-0800
TZNAME:PST
DTSTART:20241103T090000
END:STANDARD
BEGIN:DAYLIGHT
TZOFFSETFROM:-0800
TZOFFSETTO:-0700
TZNAME:PDT
DTSTART:20250309T100000
END:DAYLIGHT
BEGIN:STANDARD
TZOFFSETFROM:-0700
TZOFFSETTO:-0800
TZNAME:PST
DTSTART:20251102T090000
END:STANDARD
END:VTIMEZONE
BEGIN:VEVENT
DTSTART;TZID=America/Los_Angeles:20240807T080000
DTEND;TZID=America/Los_Angeles:20240807T170000
DTSTAMP:20260420T074444
CREATED:20240805T210040Z
LAST-MODIFIED:20240805T210100Z
UID:3699-1723017600-1723050000@sdpost416.org
SUMMARY:Comedy Vets (7 to 9) and Burger (5 to 8)
DESCRIPTION:
URL:https://sdpost416.org/event/comedy-vets-7-to-9-and-burger-5-to-8/
LOCATION:CA
ATTACH;FMTTYPE=image/jpeg:https://sdpost416.org/wp-content/uploads/2024/08/ecd0a631-1.jpg
END:VEVENT
END:VCALENDAR