BEGIN:VCALENDAR
VERSION:2.0
PRODID:-//American Legion San Dieguito Post 416 - ECPv6.15.20//NONSGML v1.0//EN
CALSCALE:GREGORIAN
METHOD:PUBLISH
X-WR-CALNAME:American Legion San Dieguito Post 416
X-ORIGINAL-URL:https://sdpost416.org
X-WR-CALDESC:Events for American Legion San Dieguito Post 416
REFRESH-INTERVAL;VALUE=DURATION:PT1H
X-Robots-Tag:noindex
X-PUBLISHED-TTL:PT1H
BEGIN:VTIMEZONE
TZID:America/Los_Angeles
BEGIN:DAYLIGHT
TZOFFSETFROM:-0800
TZOFFSETTO:-0700
TZNAME:PDT
DTSTART:20250309T100000
END:DAYLIGHT
BEGIN:STANDARD
TZOFFSETFROM:-0700
TZOFFSETTO:-0800
TZNAME:PST
DTSTART:20251102T090000
END:STANDARD
BEGIN:DAYLIGHT
TZOFFSETFROM:-0800
TZOFFSETTO:-0700
TZNAME:PDT
DTSTART:20260308T100000
END:DAYLIGHT
BEGIN:STANDARD
TZOFFSETFROM:-0700
TZOFFSETTO:-0800
TZNAME:PST
DTSTART:20261101T090000
END:STANDARD
BEGIN:DAYLIGHT
TZOFFSETFROM:-0800
TZOFFSETTO:-0700
TZNAME:PDT
DTSTART:20270314T100000
END:DAYLIGHT
BEGIN:STANDARD
TZOFFSETFROM:-0700
TZOFFSETTO:-0800
TZNAME:PST
DTSTART:20271107T090000
END:STANDARD
END:VTIMEZONE
BEGIN:VEVENT
DTSTART;VALUE=DATE:20260126
DTEND;VALUE=DATE:20260202
DTSTAMP:20260423T033544
CREATED:20260126T192049Z
LAST-MODIFIED:20260126T192049Z
UID:5732-1769385600-1769990399@sdpost416.org
SUMMARY:Calander
DESCRIPTION:
URL:https://sdpost416.org/event/calander-9/
ATTACH;FMTTYPE=image/png:https://sdpost416.org/wp-content/uploads/2026/01/MONTH-OF-JANUARY-WEEKLY-EVENTS_20260126_104818_0000.png
END:VEVENT
BEGIN:VEVENT
DTSTART;VALUE=DATE:20260126
DTEND;VALUE=DATE:20260127
DTSTAMP:20260423T033544
CREATED:20260126T192258Z
LAST-MODIFIED:20260126T192258Z
UID:5733-1769385600-1769471999@sdpost416.org
SUMMARY:Industry Night On Monday
DESCRIPTION:
URL:https://sdpost416.org/event/industry-night-on-monday/
ATTACH;FMTTYPE=image/png:https://sdpost416.org/wp-content/uploads/2026/01/Untitled-design.png
END:VEVENT
END:VCALENDAR