BEGIN:VCALENDAR
VERSION:2.0
PRODID:-//American Legion San Dieguito Post 416 - ECPv6.15.20//NONSGML v1.0//EN
CALSCALE:GREGORIAN
METHOD:PUBLISH
X-ORIGINAL-URL:https://sdpost416.org
X-WR-CALDESC:Events for American Legion San Dieguito Post 416
REFRESH-INTERVAL;VALUE=DURATION:PT1H
X-Robots-Tag:noindex
X-PUBLISHED-TTL:PT1H
BEGIN:VTIMEZONE
TZID:America/Los_Angeles
BEGIN:DAYLIGHT
TZOFFSETFROM:-0800
TZOFFSETTO:-0700
TZNAME:PDT
DTSTART:20250309T100000
END:DAYLIGHT
BEGIN:STANDARD
TZOFFSETFROM:-0700
TZOFFSETTO:-0800
TZNAME:PST
DTSTART:20251102T090000
END:STANDARD
BEGIN:DAYLIGHT
TZOFFSETFROM:-0800
TZOFFSETTO:-0700
TZNAME:PDT
DTSTART:20260308T100000
END:DAYLIGHT
BEGIN:STANDARD
TZOFFSETFROM:-0700
TZOFFSETTO:-0800
TZNAME:PST
DTSTART:20261101T090000
END:STANDARD
BEGIN:DAYLIGHT
TZOFFSETFROM:-0800
TZOFFSETTO:-0700
TZNAME:PDT
DTSTART:20270314T100000
END:DAYLIGHT
BEGIN:STANDARD
TZOFFSETFROM:-0700
TZOFFSETTO:-0800
TZNAME:PST
DTSTART:20271107T090000
END:STANDARD
END:VTIMEZONE
BEGIN:VEVENT
DTSTART;VALUE=DATE:20260202
DTEND;VALUE=DATE:20260209
DTSTAMP:20260423T052255
CREATED:20260202T194614Z
LAST-MODIFIED:20260202T214542Z
UID:5767-1769990400-1770595199@sdpost416.org
SUMMARY:Calander
DESCRIPTION:
URL:https://sdpost416.org/event/calander-10/
ATTACH;FMTTYPE=image/png:https://sdpost416.org/wp-content/uploads/2026/02/Copy-of-MONTH-OF-FEBRUARY-WEEKLY-EVENTS_20260202_123409_0000.png
END:VEVENT
BEGIN:VEVENT
DTSTART;VALUE=DATE:20260203
DTEND;VALUE=DATE:20260204
DTSTAMP:20260423T052255
CREATED:20260202T064247Z
LAST-MODIFIED:20260202T064247Z
UID:5749-1770076800-1770163199@sdpost416.org
SUMMARY:Doug Allen
DESCRIPTION:
URL:https://sdpost416.org/event/doug-allen-7/
ATTACH;FMTTYPE=image/png:https://sdpost416.org/wp-content/uploads/2024/01/Blue-And-Gray-Retro-Illustration-Live-Music-Festival-Poster_20240122_225848_0000.png
END:VEVENT
BEGIN:VEVENT
DTSTART;VALUE=DATE:20260203
DTEND;VALUE=DATE:20260204
DTSTAMP:20260423T052255
CREATED:20260202T064651Z
LAST-MODIFIED:20260202T064651Z
UID:5750-1770076800-1770163199@sdpost416.org
SUMMARY:Veterans Comedy
DESCRIPTION:
URL:https://sdpost416.org/event/veterans-comedy-4/
ATTACH;FMTTYPE=image/png:https://sdpost416.org/wp-content/uploads/2026/02/IMG_3071.png
END:VEVENT
END:VCALENDAR