BEGIN:VCALENDAR
VERSION:2.0
PRODID:-//American Legion San Dieguito Post 416 - ECPv6.15.20//NONSGML v1.0//EN
CALSCALE:GREGORIAN
METHOD:PUBLISH
X-WR-CALNAME:American Legion San Dieguito Post 416
X-ORIGINAL-URL:https://sdpost416.org
X-WR-CALDESC:Events for American Legion San Dieguito Post 416
REFRESH-INTERVAL;VALUE=DURATION:PT1H
X-Robots-Tag:noindex
X-PUBLISHED-TTL:PT1H
BEGIN:VTIMEZONE
TZID:America/Los_Angeles
BEGIN:DAYLIGHT
TZOFFSETFROM:-0800
TZOFFSETTO:-0700
TZNAME:PDT
DTSTART:20250309T100000
END:DAYLIGHT
BEGIN:STANDARD
TZOFFSETFROM:-0700
TZOFFSETTO:-0800
TZNAME:PST
DTSTART:20251102T090000
END:STANDARD
BEGIN:DAYLIGHT
TZOFFSETFROM:-0800
TZOFFSETTO:-0700
TZNAME:PDT
DTSTART:20260308T100000
END:DAYLIGHT
BEGIN:STANDARD
TZOFFSETFROM:-0700
TZOFFSETTO:-0800
TZNAME:PST
DTSTART:20261101T090000
END:STANDARD
BEGIN:DAYLIGHT
TZOFFSETFROM:-0800
TZOFFSETTO:-0700
TZNAME:PDT
DTSTART:20270314T100000
END:DAYLIGHT
BEGIN:STANDARD
TZOFFSETFROM:-0700
TZOFFSETTO:-0800
TZNAME:PST
DTSTART:20271107T090000
END:STANDARD
END:VTIMEZONE
BEGIN:VEVENT
DTSTART;VALUE=DATE:20260413
DTEND;VALUE=DATE:20260420
DTSTAMP:20260423T065122
CREATED:20260413T204826Z
LAST-MODIFIED:20260413T205151Z
UID:5992-1776038400-1776643199@sdpost416.org
SUMMARY:Calander
DESCRIPTION:
URL:https://sdpost416.org/event/calander-17/
ATTACH;FMTTYPE=image/png:https://sdpost416.org/wp-content/uploads/2026/04/Copy-of-MONTH-OF-APRIL-through-april-6th-11-x-8.5-in_20260413_133841_0000.png
END:VEVENT
BEGIN:VEVENT
DTSTART;TZID=America/Los_Angeles:20260419T150000
DTEND;TZID=America/Los_Angeles:20260419T180000
DTSTAMP:20260423T065122
CREATED:20260226T201601Z
LAST-MODIFIED:20260226T201601Z
UID:5850-1776610800-1776621600@sdpost416.org
SUMMARY:BAND- Whitchdoctors
DESCRIPTION:
URL:https://sdpost416.org/event/band-whitchdoctors/
LOCATION:Post 416\, American Legion Post 416\, 210 W F St.\, Encinitas\, CA\, 92024\, United States
END:VEVENT
END:VCALENDAR