BEGIN:VCALENDAR
VERSION:2.0
PRODID:-//American Legion San Dieguito Post 416 - ECPv6.15.20//NONSGML v1.0//EN
CALSCALE:GREGORIAN
METHOD:PUBLISH
X-WR-CALNAME:American Legion San Dieguito Post 416
X-ORIGINAL-URL:https://sdpost416.org
X-WR-CALDESC:Events for American Legion San Dieguito Post 416
REFRESH-INTERVAL;VALUE=DURATION:PT1H
X-Robots-Tag:noindex
X-PUBLISHED-TTL:PT1H
BEGIN:VTIMEZONE
TZID:America/Los_Angeles
BEGIN:DAYLIGHT
TZOFFSETFROM:-0800
TZOFFSETTO:-0700
TZNAME:PDT
DTSTART:20230312T100000
END:DAYLIGHT
BEGIN:STANDARD
TZOFFSETFROM:-0700
TZOFFSETTO:-0800
TZNAME:PST
DTSTART:20231105T090000
END:STANDARD
BEGIN:DAYLIGHT
TZOFFSETFROM:-0800
TZOFFSETTO:-0700
TZNAME:PDT
DTSTART:20240310T100000
END:DAYLIGHT
BEGIN:STANDARD
TZOFFSETFROM:-0700
TZOFFSETTO:-0800
TZNAME:PST
DTSTART:20241103T090000
END:STANDARD
BEGIN:DAYLIGHT
TZOFFSETFROM:-0800
TZOFFSETTO:-0700
TZNAME:PDT
DTSTART:20250309T100000
END:DAYLIGHT
BEGIN:STANDARD
TZOFFSETFROM:-0700
TZOFFSETTO:-0800
TZNAME:PST
DTSTART:20251102T090000
END:STANDARD
END:VTIMEZONE
BEGIN:VEVENT
DTSTART;TZID=America/Los_Angeles:20240806T080000
DTEND;TZID=America/Los_Angeles:20240806T170000
DTSTAMP:20260424T034803
CREATED:20240805T205912Z
LAST-MODIFIED:20240805T205912Z
UID:3698-1722931200-1722963600@sdpost416.org
SUMMARY:Doug Allen and Chicken Pot Pie (5 to 7)
DESCRIPTION:
URL:https://sdpost416.org/event/doug-allen-and-chicken-pot-pie-5-to-7/
ATTACH;FMTTYPE=image/png:https://sdpost416.org/wp-content/uploads/2024/01/Blue-And-Gray-Retro-Illustration-Live-Music-Festival-Poster_20240122_225848_0000.png
END:VEVENT
BEGIN:VEVENT
DTSTART;TZID=America/Los_Angeles:20240805T080000
DTEND;TZID=America/Los_Angeles:20240805T170000
DTSTAMP:20260424T034803
CREATED:20240730T190407Z
LAST-MODIFIED:20240730T190407Z
UID:3678-1722844800-1722877200@sdpost416.org
SUMMARY:We Will Be Closed
DESCRIPTION:
URL:https://sdpost416.org/event/we-will-be-closed/
END:VEVENT
BEGIN:VEVENT
DTSTART;TZID=America/Los_Angeles:20240804T080000
DTEND;TZID=America/Los_Angeles:20240804T170000
DTSTAMP:20260424T034803
CREATED:20240730T190156Z
LAST-MODIFIED:20240730T190156Z
UID:3677-1722758400-1722790800@sdpost416.org
SUMMARY:Happy Church (2-4) and BBQ (12-4)
DESCRIPTION:
URL:https://sdpost416.org/event/happy-church-2-4-and-bbq-12-4/
ATTACH;FMTTYPE=image/jpeg:https://sdpost416.org/wp-content/uploads/2024/04/8C540BBB-2.jpg
END:VEVENT
BEGIN:VEVENT
DTSTART;TZID=America/Los_Angeles:20240802T080000
DTEND;TZID=America/Los_Angeles:20240802T170000
DTSTAMP:20260424T034803
CREATED:20240730T185723Z
LAST-MODIFIED:20240730T185723Z
UID:3673-1722585600-1722618000@sdpost416.org
SUMMARY:Fish Fry and Burn Your Own Steak Night (5-8)
DESCRIPTION: 
URL:https://sdpost416.org/event/fish-fry-and-burn-your-own-steak-night-5-8/
END:VEVENT
BEGIN:VEVENT
DTSTART;TZID=America/Los_Angeles:20240801T080000
DTEND;TZID=America/Los_Angeles:20240801T170000
DTSTAMP:20260424T034803
CREATED:20240730T185833Z
LAST-MODIFIED:20240730T185833Z
UID:3674-1722499200-1722531600@sdpost416.org
SUMMARY:Bud Event
DESCRIPTION:
URL:https://sdpost416.org/event/bud-event/
ATTACH;FMTTYPE=image/jpeg:https://sdpost416.org/wp-content/uploads/2024/06/IMG_0679.jpg
END:VEVENT
BEGIN:VEVENT
DTSTART;TZID=America/Los_Angeles:20240801T080000
DTEND;TZID=America/Los_Angeles:20240801T170000
DTSTAMP:20260424T034803
CREATED:20240730T185528Z
LAST-MODIFIED:20240730T185528Z
UID:3672-1722499200-1722531600@sdpost416.org
SUMMARY:Rock Star Bingo (7 -9) and HomeMade Pizza
DESCRIPTION: 
URL:https://sdpost416.org/event/rock-star-bingo-7-9-and-homemade-pizza/
ATTACH;FMTTYPE=image/jpeg:https://sdpost416.org/wp-content/uploads/2024/07/FB_IMG_1720989661383.jpg
END:VEVENT
BEGIN:VEVENT
DTSTART;TZID=America/Los_Angeles:20240731T080000
DTEND;TZID=America/Los_Angeles:20240731T170000
DTSTAMP:20260424T034803
CREATED:20240730T185320Z
LAST-MODIFIED:20240730T185320Z
UID:3670-1722412800-1722445200@sdpost416.org
SUMMARY:New Orleans Music and Red Beans and Rice (5 to 8)
DESCRIPTION:
URL:https://sdpost416.org/event/new-orleans-music-and-red-beans-and-rice-5-to-8/
ATTACH;FMTTYPE=image/png:https://sdpost416.org/wp-content/uploads/2024/07/BTR_Flyer1.png
END:VEVENT
BEGIN:VEVENT
DTSTART;TZID=America/Los_Angeles:20240730T080000
DTEND;TZID=America/Los_Angeles:20240730T170000
DTSTAMP:20260424T034803
CREATED:20240730T184647Z
LAST-MODIFIED:20240730T184647Z
UID:3667-1722326400-1722358800@sdpost416.org
SUMMARY:Doug Allen and Fajitas (5 to 9)
DESCRIPTION:
URL:https://sdpost416.org/event/doug-allen-and-fajitas-5-to-9/
ATTACH;FMTTYPE=image/png:https://sdpost416.org/wp-content/uploads/2024/01/Blue-And-Gray-Retro-Illustration-Live-Music-Festival-Poster_20240122_225848_0000.png
END:VEVENT
BEGIN:VEVENT
DTSTART;TZID=America/Los_Angeles:20240729T080000
DTEND;TZID=America/Los_Angeles:20240729T170000
DTSTAMP:20260424T034803
CREATED:20240725T175422Z
LAST-MODIFIED:20240725T175422Z
UID:3660-1722240000-1722272400@sdpost416.org
SUMMARY:We Will Be Closed Today
DESCRIPTION:
URL:https://sdpost416.org/event/we-will-be-closed-today-4/
END:VEVENT
BEGIN:VEVENT
DTSTART;TZID=America/Los_Angeles:20240728T080000
DTEND;TZID=America/Los_Angeles:20240728T170000
DTSTAMP:20260424T034803
CREATED:20240725T175712Z
LAST-MODIFIED:20240725T175812Z
UID:3662-1722153600-1722186000@sdpost416.org
SUMMARY:We Are Closed Today
DESCRIPTION:
URL:https://sdpost416.org/event/we-are-closed-today-3/
END:VEVENT
BEGIN:VEVENT
DTSTART;TZID=America/Los_Angeles:20240727T150000
DTEND;TZID=America/Los_Angeles:20240727T180000
DTSTAMP:20260424T034803
CREATED:20240725T234225Z
LAST-MODIFIED:20240725T234225Z
UID:3663-1722092400-1722103200@sdpost416.org
SUMMARY:Leean Atherton and Austin Will be playing 4 to 5...Bring a Pot Luck 3 to 6
DESCRIPTION:
URL:https://sdpost416.org/event/leean-atherton-and-austin-will-be-playing-4-to-5-bring-a-pot-luck-3-to-6/
END:VEVENT
BEGIN:VEVENT
DTSTART;TZID=America/Los_Angeles:20240726T190000
DTEND;TZID=America/Los_Angeles:20240726T220000
DTSTAMP:20260424T034803
CREATED:20240529T060238Z
LAST-MODIFIED:20240529T060238Z
UID:3520-1722020400-1722031200@sdpost416.org
SUMMARY:BAND- Cold Craft
DESCRIPTION:
URL:https://sdpost416.org/event/band-cold-craft-7/
LOCATION:Post 416\, American Legion Post 416\, 210 W F St.\, Encinitas\, CA\, 92024\, United States
ATTACH;FMTTYPE=image/jpeg:https://sdpost416.org/wp-content/uploads/2023/07/CD508AED-5557-4843-8AF5-B5D03BF421D9.jpeg
END:VEVENT
BEGIN:VEVENT
DTSTART;TZID=America/Los_Angeles:20240726T170000
DTEND;TZID=America/Los_Angeles:20240726T200000
DTSTAMP:20260424T034803
CREATED:20240725T175135Z
LAST-MODIFIED:20240725T175135Z
UID:3658-1722013200-1722024000@sdpost416.org
SUMMARY:Fish Fry
DESCRIPTION:
URL:https://sdpost416.org/event/fish-fry-6/
ATTACH;FMTTYPE=image/jpeg:https://sdpost416.org/wp-content/uploads/2024/03/image0000013.jpg
END:VEVENT
BEGIN:VEVENT
DTSTART;TZID=America/Los_Angeles:20240725T190000
DTEND;TZID=America/Los_Angeles:20240725T210000
DTSTAMP:20260424T034803
CREATED:20240725T175039Z
LAST-MODIFIED:20240725T175039Z
UID:3657-1721934000-1721941200@sdpost416.org
SUMMARY:Rock Star Bingo and Homemade Pizza by the Sals
DESCRIPTION:
URL:https://sdpost416.org/event/rock-star-bingo-and-homemade-pizza-by-the-sals/
ATTACH;FMTTYPE=image/jpeg:https://sdpost416.org/wp-content/uploads/2024/07/FB_IMG_1720989661383.jpg
END:VEVENT
BEGIN:VEVENT
DTSTART;TZID=America/Los_Angeles:20240725T080000
DTEND;TZID=America/Los_Angeles:20240725T170000
DTSTAMP:20260424T034803
CREATED:20240725T175300Z
LAST-MODIFIED:20240725T175300Z
UID:3659-1721894400-1721926800@sdpost416.org
SUMMARY:We Will Be Closed Today
DESCRIPTION:
URL:https://sdpost416.org/event/we-will-be-closed-today-3/
END:VEVENT
BEGIN:VEVENT
DTSTART;TZID=America/Los_Angeles:20240722T150000
DTEND;TZID=America/Los_Angeles:20240722T210000
DTSTAMP:20260424T034803
CREATED:20240721T202036Z
LAST-MODIFIED:20240721T202036Z
UID:3655-1721660400-1721682000@sdpost416.org
SUMMARY:Eboard Meeting (6pm) General Meeting (7pm)
DESCRIPTION:
URL:https://sdpost416.org/event/eboard-meeting-6pm-general-meeting-7pm/
END:VEVENT
BEGIN:VEVENT
DTSTART;TZID=America/Los_Angeles:20240721T120000
DTEND;TZID=America/Los_Angeles:20240721T180000
DTSTAMP:20260424T034803
CREATED:20240720T212639Z
LAST-MODIFIED:20240720T212639Z
UID:3651-1721563200-1721584800@sdpost416.org
SUMMARY:LeeAnn playing (2-4)  Colin doing Brisket (12-5)
DESCRIPTION: 
URL:https://sdpost416.org/event/leeann-playing-2-4-colin-doing-brisket-12-5/
END:VEVENT
BEGIN:VEVENT
DTSTART;TZID=America/Los_Angeles:20240720T190000
DTEND;TZID=America/Los_Angeles:20240720T220000
DTSTAMP:20260424T034803
CREATED:20240529T055944Z
LAST-MODIFIED:20240718T211957Z
UID:3518-1721502000-1721512800@sdpost416.org
SUMMARY:BAND -Give Me Back My Blues
DESCRIPTION:
URL:https://sdpost416.org/event/band-give-me-back-my-wig-6/
LOCATION:Post 416\, American Legion Post 416\, 210 W F St.\, Encinitas\, CA\, 92024\, United States
ATTACH;FMTTYPE=image/jpeg:https://sdpost416.org/wp-content/uploads/2024/05/FB_IMG_1721327183139.jpeg
END:VEVENT
BEGIN:VEVENT
DTSTART;TZID=America/Los_Angeles:20240719T190000
DTEND;TZID=America/Los_Angeles:20240719T220000
DTSTAMP:20260424T034803
CREATED:20240529T055612Z
LAST-MODIFIED:20240718T211904Z
UID:3516-1721415600-1721426400@sdpost416.org
SUMMARY:BAND- Dad Band
DESCRIPTION:
URL:https://sdpost416.org/event/band-guilty-willams/
LOCATION:Post 416\, American Legion Post 416\, 210 W F St.\, Encinitas\, CA\, 92024\, United States
ATTACH;FMTTYPE=image/jpeg:https://sdpost416.org/wp-content/uploads/2022/08/luggage-1149289_640.jpg
END:VEVENT
BEGIN:VEVENT
DTSTART;TZID=America/Los_Angeles:20240718T190000
DTEND;TZID=America/Los_Angeles:20240718T210000
DTSTAMP:20260424T034803
CREATED:20240714T205626Z
LAST-MODIFIED:20240714T205626Z
UID:3638-1721329200-1721336400@sdpost416.org
SUMMARY:Rock Star Bingo (7 - 9) and Taco Salad (5 - 8)
DESCRIPTION:
URL:https://sdpost416.org/event/rock-star-bingo-7-9-and-taco-salad-5-8/
ATTACH;FMTTYPE=image/jpeg:https://sdpost416.org/wp-content/uploads/2024/07/FB_IMG_1720989661383.jpg
END:VEVENT
BEGIN:VEVENT
DTSTART;TZID=America/Los_Angeles:20240717T190000
DTEND;TZID=America/Los_Angeles:20240717T210000
DTSTAMP:20260424T034803
CREATED:20240709T224118Z
LAST-MODIFIED:20240709T224227Z
UID:3624-1721242800-1721250000@sdpost416.org
SUMMARY:Comedy Night (7 - 9) Pete Demarzo (7 -7:30)
DESCRIPTION:
URL:https://sdpost416.org/event/comedy-night-7-9-pete-demarzo-7-730/
ATTACH;FMTTYPE=image/jpeg:https://sdpost416.org/wp-content/uploads/2024/07/IMG_13721.jpg
END:VEVENT
BEGIN:VEVENT
DTSTART;TZID=America/Los_Angeles:20240717T170000
DTEND;TZID=America/Los_Angeles:20240717T220000
DTSTAMP:20260424T034803
CREATED:20240714T203306Z
LAST-MODIFIED:20240714T203550Z
UID:3630-1721235600-1721253600@sdpost416.org
SUMMARY:Tonight We Are Serving Burgers and Dogs
DESCRIPTION: 
URL:https://sdpost416.org/event/tonight-we-are-serving-burgers-and-dogs/
END:VEVENT
BEGIN:VEVENT
DTSTART;TZID=America/Los_Angeles:20240716T170000
DTEND;TZID=America/Los_Angeles:20240716T220000
DTSTAMP:20260424T034803
CREATED:20240714T203154Z
LAST-MODIFIED:20240714T203154Z
UID:3629-1721149200-1721167200@sdpost416.org
SUMMARY:Doug Allen (7 to 10) and Cornish Pasties (5 to 8)
DESCRIPTION:
URL:https://sdpost416.org/event/doug-allen-7-to-10-and-cornish-pasties-5-to-8/
ATTACH;FMTTYPE=image/png:https://sdpost416.org/wp-content/uploads/2024/01/Blue-And-Gray-Retro-Illustration-Live-Music-Festival-Poster_20240122_225848_0000.png
END:VEVENT
BEGIN:VEVENT
DTSTART;TZID=America/Los_Angeles:20240715T153000
DTEND;TZID=America/Los_Angeles:20240715T220000
DTSTAMP:20260424T034803
CREATED:20240709T223458Z
LAST-MODIFIED:20240709T223512Z
UID:3622-1721057400-1721080800@sdpost416.org
SUMMARY:Monday We Are Open Today 3 - 10
DESCRIPTION:
URL:https://sdpost416.org/event/monday-we-are-open-today-3-10/
END:VEVENT
BEGIN:VEVENT
DTSTART;TZID=America/Los_Angeles:20240714T080000
DTEND;TZID=America/Los_Angeles:20240714T170000
DTSTAMP:20260424T034803
CREATED:20240714T203836Z
LAST-MODIFIED:20240714T203836Z
UID:3632-1720944000-1720976400@sdpost416.org
SUMMARY:Fish Fry (5 - 8)
DESCRIPTION:
URL:https://sdpost416.org/event/fish-fry-5-8-2/
ATTACH;FMTTYPE=image/jpeg:https://sdpost416.org/wp-content/uploads/2024/03/image0000013.jpg
END:VEVENT
BEGIN:VEVENT
DTSTART;TZID=America/Los_Angeles:20240714T080000
DTEND;TZID=America/Los_Angeles:20240714T170000
DTSTAMP:20260424T034803
CREATED:20240709T223347Z
LAST-MODIFIED:20240709T223347Z
UID:3621-1720944000-1720976400@sdpost416.org
SUMMARY:Sorry We Are Closed This Sunday
DESCRIPTION:
URL:https://sdpost416.org/event/sorry-we-are-closed-this-sunday/
END:VEVENT
BEGIN:VEVENT
DTSTART;TZID=America/Los_Angeles:20240713T190000
DTEND;TZID=America/Los_Angeles:20240713T220000
DTSTAMP:20260424T034803
CREATED:20240529T060910Z
LAST-MODIFIED:20240529T060910Z
UID:3522-1720897200-1720908000@sdpost416.org
SUMMARY:BAND-Cadillac Fringe
DESCRIPTION:
URL:https://sdpost416.org/event/band-cadillac-fringe-4/
LOCATION:Post 416\, American Legion Post 416\, 210 W F St.\, Encinitas\, CA\, 92024\, United States
ATTACH;FMTTYPE=image/jpeg:https://sdpost416.org/wp-content/uploads/2022/08/piano-1655558_640.jpg
END:VEVENT
BEGIN:VEVENT
DTSTART;TZID=America/Los_Angeles:20240713T150000
DTEND;TZID=America/Los_Angeles:20240713T200000
DTSTAMP:20260424T034803
CREATED:20240709T223244Z
LAST-MODIFIED:20240709T223244Z
UID:3620-1720882800-1720900800@sdpost416.org
SUMMARY:Stoked on Sushi in the House
DESCRIPTION:
URL:https://sdpost416.org/event/stoked-on-sushi-in-the-house/
ATTACH;FMTTYPE=image/png:https://sdpost416.org/wp-content/uploads/2024/06/Black-Abstract-Premium-Taste-Sushi-Ads-Instagram-Post_20240624_153721_0000.png
END:VEVENT
BEGIN:VEVENT
DTSTART;TZID=America/Los_Angeles:20240712T190000
DTEND;TZID=America/Los_Angeles:20240712T220000
DTSTAMP:20260424T034803
CREATED:20240529T055004Z
LAST-MODIFIED:20240529T055004Z
UID:3513-1720810800-1720821600@sdpost416.org
SUMMARY:BAND- Jump Start
DESCRIPTION:
URL:https://sdpost416.org/event/band-jump-start-16/
LOCATION:Post 416\, American Legion Post 416\, 210 W F St.\, Encinitas\, CA\, 92024\, United States
END:VEVENT
BEGIN:VEVENT
DTSTART;TZID=America/Los_Angeles:20240712T170000
DTEND;TZID=America/Los_Angeles:20240712T200000
DTSTAMP:20260424T034803
CREATED:20240709T223130Z
LAST-MODIFIED:20240709T223130Z
UID:3619-1720803600-1720814400@sdpost416.org
SUMMARY:Friday Fish Fry (5 - 8)
DESCRIPTION:
URL:https://sdpost416.org/event/friday-fish-fry-5-8/
ATTACH;FMTTYPE=image/jpeg:https://sdpost416.org/wp-content/uploads/2024/03/image0000013.jpg
END:VEVENT
END:VCALENDAR