BEGIN:VCALENDAR
VERSION:2.0
PRODID:-//American Legion San Dieguito Post 416 - ECPv6.15.20//NONSGML v1.0//EN
CALSCALE:GREGORIAN
METHOD:PUBLISH
X-WR-CALNAME:American Legion San Dieguito Post 416
X-ORIGINAL-URL:https://sdpost416.org
X-WR-CALDESC:Events for American Legion San Dieguito Post 416
REFRESH-INTERVAL;VALUE=DURATION:PT1H
X-Robots-Tag:noindex
X-PUBLISHED-TTL:PT1H
BEGIN:VTIMEZONE
TZID:America/Los_Angeles
BEGIN:DAYLIGHT
TZOFFSETFROM:-0800
TZOFFSETTO:-0700
TZNAME:PDT
DTSTART:20250309T100000
END:DAYLIGHT
BEGIN:STANDARD
TZOFFSETFROM:-0700
TZOFFSETTO:-0800
TZNAME:PST
DTSTART:20251102T090000
END:STANDARD
BEGIN:DAYLIGHT
TZOFFSETFROM:-0800
TZOFFSETTO:-0700
TZNAME:PDT
DTSTART:20260308T100000
END:DAYLIGHT
BEGIN:STANDARD
TZOFFSETFROM:-0700
TZOFFSETTO:-0800
TZNAME:PST
DTSTART:20261101T090000
END:STANDARD
BEGIN:DAYLIGHT
TZOFFSETFROM:-0800
TZOFFSETTO:-0700
TZNAME:PDT
DTSTART:20270314T100000
END:DAYLIGHT
BEGIN:STANDARD
TZOFFSETFROM:-0700
TZOFFSETTO:-0800
TZNAME:PST
DTSTART:20271107T090000
END:STANDARD
END:VTIMEZONE
BEGIN:VEVENT
DTSTART;VALUE=DATE:20260303
DTEND;VALUE=DATE:20260304
DTSTAMP:20260423T084731
CREATED:20260301T222050Z
LAST-MODIFIED:20260301T222050Z
UID:5858-1772496000-1772582399@sdpost416.org
SUMMARY:Taco Tuesday
DESCRIPTION:
URL:https://sdpost416.org/event/taco-tuesday-2/
ATTACH;FMTTYPE=image/png:https://sdpost416.org/wp-content/uploads/2026/02/IMG_3071.png
END:VEVENT
BEGIN:VEVENT
DTSTART;VALUE=DATE:20260303
DTEND;VALUE=DATE:20260304
DTSTAMP:20260423T084731
CREATED:20260301T221912Z
LAST-MODIFIED:20260301T221912Z
UID:5857-1772496000-1772582399@sdpost416.org
SUMMARY:Doug Allen
DESCRIPTION:
URL:https://sdpost416.org/event/doug-allen/
ATTACH;FMTTYPE=image/png:https://sdpost416.org/wp-content/uploads/2024/01/Blue-And-Gray-Retro-Illustration-Live-Music-Festival-Poster_20240122_225848_0000.png
END:VEVENT
BEGIN:VEVENT
DTSTART;VALUE=DATE:20260302
DTEND;VALUE=DATE:20260303
DTSTAMP:20260423T084731
CREATED:20260301T221711Z
LAST-MODIFIED:20260301T221711Z
UID:5856-1772409600-1772495999@sdpost416.org
SUMMARY:Industry Night
DESCRIPTION:
URL:https://sdpost416.org/event/industry-night-3/
ATTACH;FMTTYPE=image/png:https://sdpost416.org/wp-content/uploads/2026/01/Untitled-design.png
END:VEVENT
BEGIN:VEVENT
DTSTART;TZID=America/Los_Angeles:20260301T150000
DTEND;TZID=America/Los_Angeles:20260301T180000
DTSTAMP:20260423T084731
CREATED:20260226T195816Z
LAST-MODIFIED:20260226T202340Z
UID:5849-1772377200-1772388000@sdpost416.org
SUMMARY:BAND- Rob Lamonica & Friends
DESCRIPTION:
URL:https://sdpost416.org/event/band-rob-lamonica-friends/
LOCATION:Post 416\, American Legion Post 416\, 210 W F St.\, Encinitas\, CA\, 92024\, United States
ATTACH;FMTTYPE=image/jpeg:https://sdpost416.org/wp-content/uploads/2026/02/IMG_2171.jpeg
END:VEVENT
BEGIN:VEVENT
DTSTART;TZID=America/Los_Angeles:20260228T190000
DTEND;TZID=America/Los_Angeles:20260228T220000
DTSTAMP:20260423T084731
CREATED:20260110T040601Z
LAST-MODIFIED:20260110T040601Z
UID:5675-1772305200-1772316000@sdpost416.org
SUMMARY:BAND- The Grackles
DESCRIPTION:
URL:https://sdpost416.org/event/band-the-grackles-2/
LOCATION:Post 416\, American Legion Post 416\, 210 W F St.\, Encinitas\, CA\, 92024\, United States
ATTACH;FMTTYPE=image/jpeg:https://sdpost416.org/wp-content/uploads/2025/07/IMG_1576.jpeg
END:VEVENT
BEGIN:VEVENT
DTSTART;TZID=America/Los_Angeles:20260227T190000
DTEND;TZID=America/Los_Angeles:20260227T220000
DTSTAMP:20260423T084731
CREATED:20260117T165918Z
LAST-MODIFIED:20260226T202238Z
UID:5700-1772218800-1772229600@sdpost416.org
SUMMARY:BAND- Cody Carter
DESCRIPTION:
URL:https://sdpost416.org/event/band-cody-carter/
LOCATION:Post 416\, American Legion Post 416\, 210 W F St.\, Encinitas\, CA\, 92024\, United States
ATTACH;FMTTYPE=image/jpeg:https://sdpost416.org/wp-content/uploads/2026/01/IMG_8358.jpeg
END:VEVENT
BEGIN:VEVENT
DTSTART;VALUE=DATE:20260223
DTEND;VALUE=DATE:20260302
DTSTAMP:20260423T084731
CREATED:20260224T001004Z
LAST-MODIFIED:20260224T001004Z
UID:5846-1771804800-1772409599@sdpost416.org
SUMMARY:Calander
DESCRIPTION:
URL:https://sdpost416.org/event/calander-11/
ATTACH;FMTTYPE=image/png:https://sdpost416.org/wp-content/uploads/2026/02/Copy-of-MONTH-OF-FEBRUARY-WEEKLY-EVENTS_20260223_155731_0000.png
END:VEVENT
BEGIN:VEVENT
DTSTART;TZID=America/Los_Angeles:20260222T150000
DTEND;TZID=America/Los_Angeles:20260222T180000
DTSTAMP:20260423T084731
CREATED:20250514T225211Z
LAST-MODIFIED:20250514T225211Z
UID:5286-1771772400-1771783200@sdpost416.org
SUMMARY:BAND- Songwriters Soirée
DESCRIPTION:
URL:https://sdpost416.org/event/band-songwriters-soiree-2026-02-22/
LOCATION:Post 416\, American Legion Post 416\, 210 W F St.\, Encinitas\, CA\, 92024\, United States
ATTACH;FMTTYPE=image/jpeg:https://sdpost416.org/wp-content/uploads/2025/05/IMG_0582.jpeg
END:VEVENT
BEGIN:VEVENT
DTSTART;TZID=America/Los_Angeles:20260221T190000
DTEND;TZID=America/Los_Angeles:20260221T220000
DTSTAMP:20260423T084731
CREATED:20260110T040427Z
LAST-MODIFIED:20260110T040427Z
UID:5673-1771700400-1771711200@sdpost416.org
SUMMARY:BAND- Prairiedog Lightning
DESCRIPTION:
URL:https://sdpost416.org/event/band-prairiedog-lightning/
LOCATION:Post 416\, American Legion Post 416\, 210 W F St.\, Encinitas\, CA\, 92024\, United States
ATTACH;FMTTYPE=image/jpeg:https://sdpost416.org/wp-content/uploads/2026/01/IMG_3586.jpeg
END:VEVENT
BEGIN:VEVENT
DTSTART;TZID=America/Los_Angeles:20260220T190000
DTEND;TZID=America/Los_Angeles:20260220T220000
DTSTAMP:20260423T084731
CREATED:20260110T035125Z
LAST-MODIFIED:20260110T035125Z
UID:5672-1771614000-1771624800@sdpost416.org
SUMMARY:BAND- Daddy Needs a Drink
DESCRIPTION:
URL:https://sdpost416.org/event/band-daddy-needs-a-drink-3/
LOCATION:Post 416\, American Legion Post 416\, 210 W F St.\, Encinitas\, CA\, 92024\, United States
ATTACH;FMTTYPE=image/jpeg:https://sdpost416.org/wp-content/uploads/2025/06/IMG_0943.jpeg
END:VEVENT
BEGIN:VEVENT
DTSTART;VALUE=DATE:20260219
DTEND;VALUE=DATE:20260220
DTSTAMP:20260423T084731
CREATED:20260215T084716Z
LAST-MODIFIED:20260215T084716Z
UID:5828-1771459200-1771545599@sdpost416.org
SUMMARY:Bunco Night
DESCRIPTION:
URL:https://sdpost416.org/event/bunco-night-2/
ATTACH;FMTTYPE=image/png:https://sdpost416.org/wp-content/uploads/2026/01/BUNCO_20260109_120629_0000.png
END:VEVENT
BEGIN:VEVENT
DTSTART;VALUE=DATE:20260218
DTEND;VALUE=DATE:20260219
DTSTAMP:20260423T084731
CREATED:20260216T194722Z
LAST-MODIFIED:20260216T194722Z
UID:5833-1771372800-1771459199@sdpost416.org
SUMMARY:Comedy Night and Chicken Pot Pie
DESCRIPTION:
URL:https://sdpost416.org/event/comedy-night-and-chicken-pot-pie/
ATTACH;FMTTYPE=image/jpeg:https://sdpost416.org/wp-content/uploads/2026/02/IMG_2820.jpeg
END:VEVENT
BEGIN:VEVENT
DTSTART;VALUE=DATE:20260217
DTEND;VALUE=DATE:20260218
DTSTAMP:20260423T084731
CREATED:20260215T084339Z
LAST-MODIFIED:20260215T084339Z
UID:5827-1771286400-1771372799@sdpost416.org
SUMMARY:Doug Allen Open Mic Night
DESCRIPTION:
URL:https://sdpost416.org/event/doug-allen-open-mic-night/
ATTACH;FMTTYPE=image/png:https://sdpost416.org/wp-content/uploads/2024/01/Blue-And-Gray-Retro-Illustration-Live-Music-Festival-Poster_20240122_225848_0000.png
END:VEVENT
BEGIN:VEVENT
DTSTART;VALUE=DATE:20260217
DTEND;VALUE=DATE:20260218
DTSTAMP:20260423T084731
CREATED:20260215T084200Z
LAST-MODIFIED:20260215T084200Z
UID:5826-1771286400-1771372799@sdpost416.org
SUMMARY:Taco Tuesdays
DESCRIPTION:
URL:https://sdpost416.org/event/taco-tuesdays/
ATTACH;FMTTYPE=image/png:https://sdpost416.org/wp-content/uploads/2026/02/IMG_3071.png
END:VEVENT
BEGIN:VEVENT
DTSTART;VALUE=DATE:20260216
DTEND;VALUE=DATE:20260223
DTSTAMP:20260423T084731
CREATED:20260216T200537Z
LAST-MODIFIED:20260216T200537Z
UID:5836-1771200000-1771804799@sdpost416.org
SUMMARY:Calander for this Week
DESCRIPTION:
URL:https://sdpost416.org/event/calander-for-this-week-7/
ATTACH;FMTTYPE=image/png:https://sdpost416.org/wp-content/uploads/2026/02/Copy-of-MONTH-OF-FEBRUARY-WEEKLY-EVENTS_20260216_120249_0000.png
END:VEVENT
BEGIN:VEVENT
DTSTART;VALUE=DATE:20260216
DTEND;VALUE=DATE:20260217
DTSTAMP:20260423T084731
CREATED:20260209T024910Z
LAST-MODIFIED:20260209T024910Z
UID:5779-1771200000-1771286399@sdpost416.org
SUMMARY:Industry Night
DESCRIPTION:
URL:https://sdpost416.org/event/industry-night-2/
ATTACH;FMTTYPE=image/png:https://sdpost416.org/wp-content/uploads/2026/01/Untitled-design.png
END:VEVENT
BEGIN:VEVENT
DTSTART;TZID=America/Los_Angeles:20260215T150000
DTEND;TZID=America/Los_Angeles:20260215T180000
DTSTAMP:20260423T084731
CREATED:20260211T193900Z
LAST-MODIFIED:20260211T193909Z
UID:5790-1771167600-1771178400@sdpost416.org
SUMMARY:BAND- Reagan Williams
DESCRIPTION:
URL:https://sdpost416.org/event/band-reagan-williams/
LOCATION:Post 416\, American Legion Post 416\, 210 W F St.\, Encinitas\, CA\, 92024\, United States
ATTACH;FMTTYPE=image/jpeg:https://sdpost416.org/wp-content/uploads/2026/02/IMG_3894.jpeg
END:VEVENT
BEGIN:VEVENT
DTSTART;TZID=America/Los_Angeles:20260214T190000
DTEND;TZID=America/Los_Angeles:20260214T220000
DTSTAMP:20260423T084731
CREATED:20251230T012510Z
LAST-MODIFIED:20251230T012549Z
UID:5597-1771095600-1771106400@sdpost416.org
SUMMARY:BAND- Give Me Back My Blues
DESCRIPTION:
URL:https://sdpost416.org/event/band-give-me-back-my-blues-7/
LOCATION:Post 416\, American Legion Post 416\, 210 W F St.\, Encinitas\, CA\, 92024\, United States
ATTACH;FMTTYPE=image/jpeg:https://sdpost416.org/wp-content/uploads/2025/12/IMG_3483.jpeg
END:VEVENT
BEGIN:VEVENT
DTSTART;VALUE=DATE:20260214
DTEND;VALUE=DATE:20260215
DTSTAMP:20260423T084731
CREATED:20260117T232014Z
LAST-MODIFIED:20260117T232014Z
UID:5710-1771027200-1771113599@sdpost416.org
SUMMARY:Valantines Day Dinner
DESCRIPTION:
URL:https://sdpost416.org/event/valantines-day-dinner/
ATTACH;FMTTYPE=image/png:https://sdpost416.org/wp-content/uploads/2026/01/Red-and-Pink-Modern-Valentines-Day-Party-Invitation_20260109_123647_0000.png
END:VEVENT
BEGIN:VEVENT
DTSTART;TZID=America/Los_Angeles:20260213T190000
DTEND;TZID=America/Los_Angeles:20260213T220000
DTSTAMP:20260423T084731
CREATED:20260110T033954Z
LAST-MODIFIED:20260211T183450Z
UID:5671-1771009200-1771020000@sdpost416.org
SUMMARY:BAND- Off The Record
DESCRIPTION:
URL:https://sdpost416.org/event/band-off-the-record-5/
LOCATION:Post 416\, American Legion Post 416\, 210 W F St.\, Encinitas\, CA\, 92024\, United States
ATTACH;FMTTYPE=image/jpeg:https://sdpost416.org/wp-content/uploads/2026/01/Amer-Legion-flyer-4-Feb-13.jpeg
END:VEVENT
BEGIN:VEVENT
DTSTART;VALUE=DATE:20260212
DTEND;VALUE=DATE:20260213
DTSTAMP:20260423T084731
CREATED:20260209T025230Z
LAST-MODIFIED:20260209T025230Z
UID:5783-1770854400-1770940799@sdpost416.org
SUMMARY:Pasta Thursday
DESCRIPTION:
URL:https://sdpost416.org/event/pasta-thursday/
ATTACH;FMTTYPE=image/png:https://sdpost416.org/wp-content/uploads/2026/02/IMG_3065.png
END:VEVENT
BEGIN:VEVENT
DTSTART;VALUE=DATE:20260211
DTEND;VALUE=DATE:20260212
DTSTAMP:20260423T084731
CREATED:20260209T025344Z
LAST-MODIFIED:20260209T025344Z
UID:5784-1770768000-1770854399@sdpost416.org
SUMMARY:Hump Day Jam
DESCRIPTION:
URL:https://sdpost416.org/event/hump-day-jam-2/
ATTACH;FMTTYPE=image/png:https://sdpost416.org/wp-content/uploads/2025/08/IMG_5466.png
END:VEVENT
BEGIN:VEVENT
DTSTART;VALUE=DATE:20260211
DTEND;VALUE=DATE:20260212
DTSTAMP:20260423T084731
CREATED:20260209T025133Z
LAST-MODIFIED:20260209T025133Z
UID:5782-1770768000-1770854399@sdpost416.org
SUMMARY:Auxiliary Meeting @ 6:30
DESCRIPTION:
URL:https://sdpost416.org/event/auxiliary-meeting-630-2/
END:VEVENT
BEGIN:VEVENT
DTSTART;VALUE=DATE:20260211
DTEND;VALUE=DATE:20260212
DTSTAMP:20260423T084731
CREATED:20260209T025048Z
LAST-MODIFIED:20260209T025048Z
UID:5781-1770768000-1770854399@sdpost416.org
SUMMARY:Wing Wednesday
DESCRIPTION:
URL:https://sdpost416.org/event/wing-wednesday-2/
ATTACH;FMTTYPE=image/png:https://sdpost416.org/wp-content/uploads/2026/02/IMG_3067.png
END:VEVENT
BEGIN:VEVENT
DTSTART;VALUE=DATE:20260210
DTEND;VALUE=DATE:20260211
DTSTAMP:20260423T084731
CREATED:20260209T030154Z
LAST-MODIFIED:20260209T030154Z
UID:5787-1770681600-1770767999@sdpost416.org
SUMMARY:Doug Allen @ 7pm
DESCRIPTION:
URL:https://sdpost416.org/event/doug-allen-7pm-3/
ATTACH;FMTTYPE=image/png:https://sdpost416.org/wp-content/uploads/2024/01/Blue-And-Gray-Retro-Illustration-Live-Music-Festival-Poster_20240122_225848_0000.png
END:VEVENT
BEGIN:VEVENT
DTSTART;VALUE=DATE:20260210
DTEND;VALUE=DATE:20260211
DTSTAMP:20260423T084731
CREATED:20260209T024949Z
LAST-MODIFIED:20260209T024949Z
UID:5780-1770681600-1770767999@sdpost416.org
SUMMARY:Taco Tuesday
DESCRIPTION:
URL:https://sdpost416.org/event/taco-tuesday/
ATTACH;FMTTYPE=image/png:https://sdpost416.org/wp-content/uploads/2026/02/IMG_3071.png
END:VEVENT
BEGIN:VEVENT
DTSTART;VALUE=DATE:20260209
DTEND;VALUE=DATE:20260210
DTSTAMP:20260423T084731
CREATED:20260209T025510Z
LAST-MODIFIED:20260209T025510Z
UID:5785-1770595200-1770681599@sdpost416.org
SUMMARY:Eboard Meeting @ 6pm\, General Meeting @ 7pm
DESCRIPTION:
URL:https://sdpost416.org/event/eboard-meeting-6pm-general-meeting-7pm-3/
END:VEVENT
BEGIN:VEVENT
DTSTART;VALUE=DATE:20260209
DTEND;VALUE=DATE:20260216
DTSTAMP:20260423T084731
CREATED:20260209T024809Z
LAST-MODIFIED:20260209T024809Z
UID:5777-1770595200-1771199999@sdpost416.org
SUMMARY:Calander This Week
DESCRIPTION:
URL:https://sdpost416.org/event/calander-this-week-2/
ATTACH;FMTTYPE=image/png:https://sdpost416.org/wp-content/uploads/2026/02/Copy-of-MONTH-OF-FEBRUARY-WEEKLY-EVENTS_20260208_140943_0000.png
END:VEVENT
BEGIN:VEVENT
DTSTART;TZID=America/Los_Angeles:20260208T150000
DTEND;TZID=America/Los_Angeles:20260208T190000
DTSTAMP:20260423T084731
CREATED:20260110T033752Z
LAST-MODIFIED:20260110T033752Z
UID:5670-1770562800-1770577200@sdpost416.org
SUMMARY:SUPER BOWL PARTY
DESCRIPTION:
URL:https://sdpost416.org/event/super-bowl-party/
LOCATION:Post 416\, American Legion Post 416\, 210 W F St.\, Encinitas\, CA\, 92024\, United States
END:VEVENT
BEGIN:VEVENT
DTSTART;VALUE=DATE:20260208
DTEND;VALUE=DATE:20260209
DTSTAMP:20260423T084731
CREATED:20260117T231633Z
LAST-MODIFIED:20260117T231633Z
UID:5707-1770508800-1770595199@sdpost416.org
SUMMARY:Superbowl Sunday ask Your Bartender
DESCRIPTION:
URL:https://sdpost416.org/event/superbowl-sunday-ask-your-bartender/
ATTACH;FMTTYPE=image/png:https://sdpost416.org/wp-content/uploads/2026/01/Beige-And-Brown-Playful-Illustrative-Football-Tailgate-Party-Invitation_20260117_151118_0000.png
END:VEVENT
END:VCALENDAR