BEGIN:VCALENDAR
VERSION:2.0
PRODID:-//American Legion San Dieguito Post 416 - ECPv6.15.20//NONSGML v1.0//EN
CALSCALE:GREGORIAN
METHOD:PUBLISH
X-WR-CALNAME:American Legion San Dieguito Post 416
X-ORIGINAL-URL:https://sdpost416.org
X-WR-CALDESC:Events for American Legion San Dieguito Post 416
REFRESH-INTERVAL;VALUE=DURATION:PT1H
X-Robots-Tag:noindex
X-PUBLISHED-TTL:PT1H
BEGIN:VTIMEZONE
TZID:America/Los_Angeles
BEGIN:DAYLIGHT
TZOFFSETFROM:-0800
TZOFFSETTO:-0700
TZNAME:PDT
DTSTART:20250309T100000
END:DAYLIGHT
BEGIN:STANDARD
TZOFFSETFROM:-0700
TZOFFSETTO:-0800
TZNAME:PST
DTSTART:20251102T090000
END:STANDARD
BEGIN:DAYLIGHT
TZOFFSETFROM:-0800
TZOFFSETTO:-0700
TZNAME:PDT
DTSTART:20260308T100000
END:DAYLIGHT
BEGIN:STANDARD
TZOFFSETFROM:-0700
TZOFFSETTO:-0800
TZNAME:PST
DTSTART:20261101T090000
END:STANDARD
BEGIN:DAYLIGHT
TZOFFSETFROM:-0800
TZOFFSETTO:-0700
TZNAME:PDT
DTSTART:20270314T100000
END:DAYLIGHT
BEGIN:STANDARD
TZOFFSETFROM:-0700
TZOFFSETTO:-0800
TZNAME:PST
DTSTART:20271107T090000
END:STANDARD
BEGIN:DAYLIGHT
TZOFFSETFROM:-0800
TZOFFSETTO:-0700
TZNAME:PDT
DTSTART:20280312T100000
END:DAYLIGHT
BEGIN:STANDARD
TZOFFSETFROM:-0700
TZOFFSETTO:-0800
TZNAME:PST
DTSTART:20281105T090000
END:STANDARD
END:VTIMEZONE
BEGIN:VEVENT
DTSTART;TZID=America/Los_Angeles:20260509T190000
DTEND;TZID=America/Los_Angeles:20260509T220000
DTSTAMP:20260422T151137
CREATED:20260322T205455Z
LAST-MODIFIED:20260322T205455Z
UID:5944-1778353200-1778364000@sdpost416.org
SUMMARY:BAND- Sandcasters
DESCRIPTION:
URL:https://sdpost416.org/event/band-sandcasters-12/
LOCATION:Post 416\, American Legion Post 416\, 210 W F St.\, Encinitas\, CA\, 92024\, United States
ATTACH;FMTTYPE=image/jpeg:https://sdpost416.org/wp-content/uploads/2023/05/942F8759-3E96-4B24-ABB2-B2786A67F4F9.jpeg
END:VEVENT
BEGIN:VEVENT
DTSTART;TZID=America/Los_Angeles:20260510T150000
DTEND;TZID=America/Los_Angeles:20260510T180000
DTSTAMP:20260422T151137
CREATED:20251006T161817Z
LAST-MODIFIED:20251006T162315Z
UID:5175-1778425200-1778436000@sdpost416.org
SUMMARY:BAND- Duck Tape Trio
DESCRIPTION:
URL:https://sdpost416.org/event/band-duck-tape-trio-4-2026-05-10/
LOCATION:Post 416\, American Legion Post 416\, 210 W F St.\, Encinitas\, CA\, 92024\, United States
ATTACH;FMTTYPE=image/jpeg:https://sdpost416.org/wp-content/uploads/2025/05/Screen-Sh.jpeg
END:VEVENT
BEGIN:VEVENT
DTSTART;TZID=America/Los_Angeles:20260515T190000
DTEND;TZID=America/Los_Angeles:20260515T220000
DTSTAMP:20260422T151137
CREATED:20260322T205704Z
LAST-MODIFIED:20260322T205704Z
UID:5945-1778871600-1778882400@sdpost416.org
SUMMARY:BAND- Small Town Heroes
DESCRIPTION:
URL:https://sdpost416.org/event/band-small-town-heroes-5/
LOCATION:Post 416\, American Legion Post 416\, 210 W F St.\, Encinitas\, CA\, 92024\, United States
ATTACH;FMTTYPE=image/jpeg:https://sdpost416.org/wp-content/uploads/2025/01/IMG_9343.jpeg
END:VEVENT
BEGIN:VEVENT
DTSTART;TZID=America/Los_Angeles:20260516T190000
DTEND;TZID=America/Los_Angeles:20260516T220000
DTSTAMP:20260422T151137
CREATED:20260322T205804Z
LAST-MODIFIED:20260322T205804Z
UID:5946-1778958000-1778968800@sdpost416.org
SUMMARY:BAND- Salt Lickers
DESCRIPTION:
URL:https://sdpost416.org/event/band-salt-lickers-3/
LOCATION:Post 416\, American Legion Post 416\, 210 W F St.\, Encinitas\, CA\, 92024\, United States
END:VEVENT
BEGIN:VEVENT
DTSTART;TZID=America/Los_Angeles:20260517T150000
DTEND;TZID=America/Los_Angeles:20260517T180000
DTSTAMP:20260422T151137
CREATED:20260211T202830Z
LAST-MODIFIED:20260211T202947Z
UID:5813-1779030000-1779040800@sdpost416.org
SUMMARY:BAND- Lugo & the Texas Blues Band
DESCRIPTION:
URL:https://sdpost416.org/event/band-lugo-the-texas-blues-band/
LOCATION:Post 416\, American Legion Post 416\, 210 W F St.\, Encinitas\, CA\, 92024\, United States
ATTACH;FMTTYPE=image/jpeg:https://sdpost416.org/wp-content/uploads/2026/02/IMG_3899.jpeg
END:VEVENT
BEGIN:VEVENT
DTSTART;TZID=America/Los_Angeles:20260523T190000
DTEND;TZID=America/Los_Angeles:20260523T220000
DTSTAMP:20260422T151137
CREATED:20260211T200832Z
LAST-MODIFIED:20260211T200851Z
UID:5808-1779562800-1779573600@sdpost416.org
SUMMARY:BAND- Moss Alley
DESCRIPTION:
URL:https://sdpost416.org/event/band-moss-alley-4/
LOCATION:Post 416\, American Legion Post 416\, 210 W F St.\, Encinitas\, CA\, 92024\, United States
ATTACH;FMTTYPE=image/jpeg:https://sdpost416.org/wp-content/uploads/2025/06/IMG_0949.jpeg
END:VEVENT
BEGIN:VEVENT
DTSTART;TZID=America/Los_Angeles:20260523T190000
DTEND;TZID=America/Los_Angeles:20260523T220000
DTSTAMP:20260422T151137
CREATED:20260322T210048Z
LAST-MODIFIED:20260322T210453Z
UID:5947-1779562800-1779573600@sdpost416.org
SUMMARY:BAND- Moss Alley Band
DESCRIPTION:
URL:https://sdpost416.org/event/babd-moss-alley-band/
LOCATION:Post 416\, American Legion Post 416\, 210 W F St.\, Encinitas\, CA\, 92024\, United States
ATTACH;FMTTYPE=image/jpeg:https://sdpost416.org/wp-content/uploads/2025/06/IMG_0949.jpeg
END:VEVENT
BEGIN:VEVENT
DTSTART;TZID=America/Los_Angeles:20260529T190000
DTEND;TZID=America/Los_Angeles:20260529T220000
DTSTAMP:20260422T151137
CREATED:20260322T211917Z
LAST-MODIFIED:20260322T211917Z
UID:5948-1780081200-1780092000@sdpost416.org
SUMMARY:BAND-Urban Outlaws
DESCRIPTION:
URL:https://sdpost416.org/event/band-urban-outlaws/
LOCATION:Post 416\, American Legion Post 416\, 210 W F St.\, Encinitas\, CA\, 92024\, United States
ATTACH;FMTTYPE=image/jpeg:https://sdpost416.org/wp-content/uploads/2023/03/0F076E53-99FA-4272-8670-D9244B53433B.jpeg
END:VEVENT
BEGIN:VEVENT
DTSTART;TZID=America/Los_Angeles:20260530T190000
DTEND;TZID=America/Los_Angeles:20260530T220000
DTSTAMP:20260422T151137
CREATED:20260409T183025Z
LAST-MODIFIED:20260409T183025Z
UID:5988-1780167600-1780178400@sdpost416.org
SUMMARY:BAND-Deadmentia
DESCRIPTION:
URL:https://sdpost416.org/event/band-deadmentia/
LOCATION:Post 416\, American Legion Post 416\, 210 W F St.\, Encinitas\, CA\, 92024\, United States
END:VEVENT
BEGIN:VEVENT
DTSTART;TZID=America/Los_Angeles:20260614T150000
DTEND;TZID=America/Los_Angeles:20260614T180000
DTSTAMP:20260422T151137
CREATED:20251006T161817Z
LAST-MODIFIED:20251006T162315Z
UID:5176-1781449200-1781460000@sdpost416.org
SUMMARY:BAND- Duck Tape Trio
DESCRIPTION:
URL:https://sdpost416.org/event/band-duck-tape-trio-4-2026-06-14/
LOCATION:Post 416\, American Legion Post 416\, 210 W F St.\, Encinitas\, CA\, 92024\, United States
ATTACH;FMTTYPE=image/jpeg:https://sdpost416.org/wp-content/uploads/2025/05/Screen-Sh.jpeg
END:VEVENT
BEGIN:VEVENT
DTSTART;TZID=America/Los_Angeles:20260619T190000
DTEND;TZID=America/Los_Angeles:20260619T220000
DTSTAMP:20260422T151137
CREATED:20260309T153830Z
LAST-MODIFIED:20260309T153830Z
UID:5905-1781895600-1781906400@sdpost416.org
SUMMARY:BAND- Crimson Collar
DESCRIPTION:Doors open at 7pm -show at 7:30pm \n$10 cover \nA Rockin Robin Event
URL:https://sdpost416.org/event/band-crimson-collar/
LOCATION:Post 416\, American Legion Post 416\, 210 W F St.\, Encinitas\, CA\, 92024\, United States
END:VEVENT
BEGIN:VEVENT
DTSTART;TZID=America/Los_Angeles:20260710T190000
DTEND;TZID=America/Los_Angeles:20260710T220000
DTSTAMP:20260422T151137
CREATED:20260309T154611Z
LAST-MODIFIED:20260309T154611Z
UID:5907-1783710000-1783720800@sdpost416.org
SUMMARY:BAND- Steal Dawn
DESCRIPTION:Doors Open @ 7pm -Show Starts @ 7:30pm \n$10 cover \nA Rockin Robin Event
URL:https://sdpost416.org/event/band-steal-dawn/
LOCATION:Post 416\, American Legion Post 416\, 210 W F St.\, Encinitas\, CA\, 92024\, United States
END:VEVENT
BEGIN:VEVENT
DTSTART;TZID=America/Los_Angeles:20260712T150000
DTEND;TZID=America/Los_Angeles:20260712T180000
DTSTAMP:20260422T151137
CREATED:20251006T161817Z
LAST-MODIFIED:20251006T162316Z
UID:5177-1783868400-1783879200@sdpost416.org
SUMMARY:BAND- Duck Tape Trio
DESCRIPTION:
URL:https://sdpost416.org/event/band-duck-tape-trio-4-2026-07-12/
LOCATION:Post 416\, American Legion Post 416\, 210 W F St.\, Encinitas\, CA\, 92024\, United States
ATTACH;FMTTYPE=image/jpeg:https://sdpost416.org/wp-content/uploads/2025/05/Screen-Sh.jpeg
END:VEVENT
BEGIN:VEVENT
DTSTART;TZID=America/Los_Angeles:20260809T150000
DTEND;TZID=America/Los_Angeles:20260809T180000
DTSTAMP:20260422T151137
CREATED:20251006T161817Z
LAST-MODIFIED:20251006T162317Z
UID:5178-1786287600-1786298400@sdpost416.org
SUMMARY:BAND- Duck Tape Trio
DESCRIPTION:
URL:https://sdpost416.org/event/band-duck-tape-trio-4-2026-08-09/
LOCATION:Post 416\, American Legion Post 416\, 210 W F St.\, Encinitas\, CA\, 92024\, United States
ATTACH;FMTTYPE=image/jpeg:https://sdpost416.org/wp-content/uploads/2025/05/Screen-Sh.jpeg
END:VEVENT
BEGIN:VEVENT
DTSTART;TZID=America/Los_Angeles:20260913T150000
DTEND;TZID=America/Los_Angeles:20260913T180000
DTSTAMP:20260422T151137
CREATED:20251006T161817Z
LAST-MODIFIED:20251006T162319Z
UID:5179-1789311600-1789322400@sdpost416.org
SUMMARY:BAND- Duck Tape Trio
DESCRIPTION:
URL:https://sdpost416.org/event/band-duck-tape-trio-4-2026-09-13/
LOCATION:Post 416\, American Legion Post 416\, 210 W F St.\, Encinitas\, CA\, 92024\, United States
ATTACH;FMTTYPE=image/jpeg:https://sdpost416.org/wp-content/uploads/2025/05/Screen-Sh.jpeg
END:VEVENT
BEGIN:VEVENT
DTSTART;TZID=America/Los_Angeles:20261011T150000
DTEND;TZID=America/Los_Angeles:20261011T180000
DTSTAMP:20260422T151137
CREATED:20251006T161817Z
LAST-MODIFIED:20251006T162320Z
UID:5180-1791730800-1791741600@sdpost416.org
SUMMARY:BAND- Duck Tape Trio
DESCRIPTION:
URL:https://sdpost416.org/event/band-duck-tape-trio-4-2026-10-11/
LOCATION:Post 416\, American Legion Post 416\, 210 W F St.\, Encinitas\, CA\, 92024\, United States
ATTACH;FMTTYPE=image/jpeg:https://sdpost416.org/wp-content/uploads/2025/05/Screen-Sh.jpeg
END:VEVENT
BEGIN:VEVENT
DTSTART;TZID=America/Los_Angeles:20261108T150000
DTEND;TZID=America/Los_Angeles:20261108T180000
DTSTAMP:20260422T151137
CREATED:20251006T161817Z
LAST-MODIFIED:20251006T162320Z
UID:5181-1794150000-1794160800@sdpost416.org
SUMMARY:BAND- Duck Tape Trio
DESCRIPTION:
URL:https://sdpost416.org/event/band-duck-tape-trio-4-2026-11-08/
LOCATION:Post 416\, American Legion Post 416\, 210 W F St.\, Encinitas\, CA\, 92024\, United States
ATTACH;FMTTYPE=image/jpeg:https://sdpost416.org/wp-content/uploads/2025/05/Screen-Sh.jpeg
END:VEVENT
BEGIN:VEVENT
DTSTART;TZID=America/Los_Angeles:20261213T150000
DTEND;TZID=America/Los_Angeles:20261213T180000
DTSTAMP:20260422T151137
CREATED:20251006T161817Z
LAST-MODIFIED:20251006T162321Z
UID:5182-1797174000-1797184800@sdpost416.org
SUMMARY:BAND- Duck Tape Trio
DESCRIPTION:
URL:https://sdpost416.org/event/band-duck-tape-trio-4-2026-12-13/
LOCATION:Post 416\, American Legion Post 416\, 210 W F St.\, Encinitas\, CA\, 92024\, United States
ATTACH;FMTTYPE=image/jpeg:https://sdpost416.org/wp-content/uploads/2025/05/Screen-Sh.jpeg
END:VEVENT
BEGIN:VEVENT
DTSTART;TZID=America/Los_Angeles:20270110T150000
DTEND;TZID=America/Los_Angeles:20270110T180000
DTSTAMP:20260422T151137
CREATED:20251006T161817Z
LAST-MODIFIED:20251006T162321Z
UID:5183-1799593200-1799604000@sdpost416.org
SUMMARY:BAND- Duck Tape Trio
DESCRIPTION:
URL:https://sdpost416.org/event/band-duck-tape-trio-4-2027-01-10/
LOCATION:Post 416\, American Legion Post 416\, 210 W F St.\, Encinitas\, CA\, 92024\, United States
ATTACH;FMTTYPE=image/jpeg:https://sdpost416.org/wp-content/uploads/2025/05/Screen-Sh.jpeg
END:VEVENT
BEGIN:VEVENT
DTSTART;TZID=America/Los_Angeles:20270214T150000
DTEND;TZID=America/Los_Angeles:20270214T180000
DTSTAMP:20260422T151137
CREATED:20251006T161817Z
LAST-MODIFIED:20251006T162321Z
UID:5184-1802617200-1802628000@sdpost416.org
SUMMARY:BAND- Duck Tape Trio
DESCRIPTION:
URL:https://sdpost416.org/event/band-duck-tape-trio-4-2027-02-14/
LOCATION:Post 416\, American Legion Post 416\, 210 W F St.\, Encinitas\, CA\, 92024\, United States
ATTACH;FMTTYPE=image/jpeg:https://sdpost416.org/wp-content/uploads/2025/05/Screen-Sh.jpeg
END:VEVENT
BEGIN:VEVENT
DTSTART;TZID=America/Los_Angeles:20270314T150000
DTEND;TZID=America/Los_Angeles:20270314T180000
DTSTAMP:20260422T151137
CREATED:20251006T161817Z
LAST-MODIFIED:20251006T162322Z
UID:5185-1805036400-1805047200@sdpost416.org
SUMMARY:BAND- Duck Tape Trio
DESCRIPTION:
URL:https://sdpost416.org/event/band-duck-tape-trio-4-2027-03-14/
LOCATION:Post 416\, American Legion Post 416\, 210 W F St.\, Encinitas\, CA\, 92024\, United States
ATTACH;FMTTYPE=image/jpeg:https://sdpost416.org/wp-content/uploads/2025/05/Screen-Sh.jpeg
END:VEVENT
BEGIN:VEVENT
DTSTART;TZID=America/Los_Angeles:20270411T150000
DTEND;TZID=America/Los_Angeles:20270411T180000
DTSTAMP:20260422T151137
CREATED:20251006T161817Z
LAST-MODIFIED:20251006T162322Z
UID:5186-1807455600-1807466400@sdpost416.org
SUMMARY:BAND- Duck Tape Trio
DESCRIPTION:
URL:https://sdpost416.org/event/band-duck-tape-trio-4-2027-04-11/
LOCATION:Post 416\, American Legion Post 416\, 210 W F St.\, Encinitas\, CA\, 92024\, United States
ATTACH;FMTTYPE=image/jpeg:https://sdpost416.org/wp-content/uploads/2025/05/Screen-Sh.jpeg
END:VEVENT
BEGIN:VEVENT
DTSTART;TZID=America/Los_Angeles:20270509T150000
DTEND;TZID=America/Los_Angeles:20270509T180000
DTSTAMP:20260422T151137
CREATED:20251006T161817Z
LAST-MODIFIED:20251006T162322Z
UID:5187-1809874800-1809885600@sdpost416.org
SUMMARY:BAND- Duck Tape Trio
DESCRIPTION:
URL:https://sdpost416.org/event/band-duck-tape-trio-4-2027-05-09/
LOCATION:Post 416\, American Legion Post 416\, 210 W F St.\, Encinitas\, CA\, 92024\, United States
ATTACH;FMTTYPE=image/jpeg:https://sdpost416.org/wp-content/uploads/2025/05/Screen-Sh.jpeg
END:VEVENT
BEGIN:VEVENT
DTSTART;TZID=America/Los_Angeles:20270613T150000
DTEND;TZID=America/Los_Angeles:20270613T180000
DTSTAMP:20260422T151137
CREATED:20251006T161817Z
LAST-MODIFIED:20251006T162323Z
UID:5188-1812898800-1812909600@sdpost416.org
SUMMARY:BAND- Duck Tape Trio
DESCRIPTION:
URL:https://sdpost416.org/event/band-duck-tape-trio-4-2027-06-13/
LOCATION:Post 416\, American Legion Post 416\, 210 W F St.\, Encinitas\, CA\, 92024\, United States
ATTACH;FMTTYPE=image/jpeg:https://sdpost416.org/wp-content/uploads/2025/05/Screen-Sh.jpeg
END:VEVENT
BEGIN:VEVENT
DTSTART;TZID=America/Los_Angeles:20270711T150000
DTEND;TZID=America/Los_Angeles:20270711T180000
DTSTAMP:20260422T151137
CREATED:20251006T161817Z
LAST-MODIFIED:20251006T162324Z
UID:5189-1815318000-1815328800@sdpost416.org
SUMMARY:BAND- Duck Tape Trio
DESCRIPTION:
URL:https://sdpost416.org/event/band-duck-tape-trio-4-2027-07-11/
LOCATION:Post 416\, American Legion Post 416\, 210 W F St.\, Encinitas\, CA\, 92024\, United States
ATTACH;FMTTYPE=image/jpeg:https://sdpost416.org/wp-content/uploads/2025/05/Screen-Sh.jpeg
END:VEVENT
BEGIN:VEVENT
DTSTART;TZID=America/Los_Angeles:20270808T150000
DTEND;TZID=America/Los_Angeles:20270808T180000
DTSTAMP:20260422T151137
CREATED:20251006T161817Z
LAST-MODIFIED:20251006T162325Z
UID:5191-1817737200-1817748000@sdpost416.org
SUMMARY:BAND- Duck Tape Trio
DESCRIPTION:
URL:https://sdpost416.org/event/band-duck-tape-trio-4-2027-08-08/
LOCATION:Post 416\, American Legion Post 416\, 210 W F St.\, Encinitas\, CA\, 92024\, United States
ATTACH;FMTTYPE=image/jpeg:https://sdpost416.org/wp-content/uploads/2025/05/Screen-Sh.jpeg
END:VEVENT
BEGIN:VEVENT
DTSTART;TZID=America/Los_Angeles:20270912T150000
DTEND;TZID=America/Los_Angeles:20270912T180000
DTSTAMP:20260422T151137
CREATED:20251006T161817Z
LAST-MODIFIED:20251006T162325Z
UID:5192-1820761200-1820772000@sdpost416.org
SUMMARY:BAND- Duck Tape Trio
DESCRIPTION:
URL:https://sdpost416.org/event/band-duck-tape-trio-4-2027-09-12/
LOCATION:Post 416\, American Legion Post 416\, 210 W F St.\, Encinitas\, CA\, 92024\, United States
ATTACH;FMTTYPE=image/jpeg:https://sdpost416.org/wp-content/uploads/2025/05/Screen-Sh.jpeg
END:VEVENT
END:VCALENDAR