BEGIN:VCALENDAR
VERSION:2.0
PRODID:-//American Legion San Dieguito Post 416 - ECPv6.15.20//NONSGML v1.0//EN
CALSCALE:GREGORIAN
METHOD:PUBLISH
X-ORIGINAL-URL:https://sdpost416.org
X-WR-CALDESC:Events for American Legion San Dieguito Post 416
REFRESH-INTERVAL;VALUE=DURATION:PT1H
X-Robots-Tag:noindex
X-PUBLISHED-TTL:PT1H
BEGIN:VTIMEZONE
TZID:America/Los_Angeles
BEGIN:DAYLIGHT
TZOFFSETFROM:-0800
TZOFFSETTO:-0700
TZNAME:PDT
DTSTART:20230312T100000
END:DAYLIGHT
BEGIN:STANDARD
TZOFFSETFROM:-0700
TZOFFSETTO:-0800
TZNAME:PST
DTSTART:20231105T090000
END:STANDARD
BEGIN:DAYLIGHT
TZOFFSETFROM:-0800
TZOFFSETTO:-0700
TZNAME:PDT
DTSTART:20240310T100000
END:DAYLIGHT
BEGIN:STANDARD
TZOFFSETFROM:-0700
TZOFFSETTO:-0800
TZNAME:PST
DTSTART:20241103T090000
END:STANDARD
BEGIN:DAYLIGHT
TZOFFSETFROM:-0800
TZOFFSETTO:-0700
TZNAME:PDT
DTSTART:20250309T100000
END:DAYLIGHT
BEGIN:STANDARD
TZOFFSETFROM:-0700
TZOFFSETTO:-0800
TZNAME:PST
DTSTART:20251102T090000
END:STANDARD
END:VTIMEZONE
BEGIN:VEVENT
DTSTART;TZID=America/Los_Angeles:20241119T080000
DTEND;TZID=America/Los_Angeles:20241119T170000
DTSTAMP:20260423T103310
CREATED:20241117T234500Z
LAST-MODIFIED:20241117T234500Z
UID:4059-1732003200-1732035600@sdpost416.org
SUMMARY:Doug Allen - 7pm and Chicken Chili - 5pm
DESCRIPTION:
URL:https://sdpost416.org/event/doug-allen-7pm-and-chicken-chili-5pm/
ATTACH;FMTTYPE=image/png:https://sdpost416.org/wp-content/uploads/2024/01/Blue-And-Gray-Retro-Illustration-Live-Music-Festival-Poster_20240122_225848_0000.png
END:VEVENT
BEGIN:VEVENT
DTSTART;TZID=America/Los_Angeles:20241120T080000
DTEND;TZID=America/Los_Angeles:20241120T170000
DTSTAMP:20260423T103310
CREATED:20241117T235340Z
LAST-MODIFIED:20241117T235340Z
UID:4061-1732089600-1732122000@sdpost416.org
SUMMARY:Comedy Night - 7pm and Gourmet Grilled Cheese Sandwiches and HomeMade Tomato Soup
DESCRIPTION:
URL:https://sdpost416.org/event/comedy-night-7pm-and-gourmet-grilled-cheese-sandwiches-and-homemade-tomato-soup/
ATTACH;FMTTYPE=image/jpeg:https://sdpost416.org/wp-content/uploads/2024/11/IMG_1970.jpg
END:VEVENT
BEGIN:VEVENT
DTSTART;TZID=America/Los_Angeles:20241121T080000
DTEND;TZID=America/Los_Angeles:20241121T170000
DTSTAMP:20260423T103310
CREATED:20241117T235708Z
LAST-MODIFIED:20241117T235708Z
UID:4063-1732176000-1732208400@sdpost416.org
SUMMARY:County Western Line Dancing - 7pm
DESCRIPTION:
URL:https://sdpost416.org/event/county-western-line-dancing-7pm/
ATTACH;FMTTYPE=image/jpeg:https://sdpost416.org/wp-content/uploads/2024/11/Thursday-001.jpg
END:VEVENT
BEGIN:VEVENT
DTSTART;TZID=America/Los_Angeles:20241122T080000
DTEND;TZID=America/Los_Angeles:20241122T170000
DTSTAMP:20260423T103310
CREATED:20241117T235829Z
LAST-MODIFIED:20241117T235829Z
UID:4065-1732262400-1732294800@sdpost416.org
SUMMARY:Fish Fry - 5pm
DESCRIPTION: 
URL:https://sdpost416.org/event/fish-fry-5pm-4/
ATTACH;FMTTYPE=image/jpeg:https://sdpost416.org/wp-content/uploads/2024/03/image0000013.jpg
END:VEVENT
BEGIN:VEVENT
DTSTART;TZID=America/Los_Angeles:20241122T190000
DTEND;TZID=America/Los_Angeles:20241122T220000
DTSTAMP:20260423T103310
CREATED:20241008T041954Z
LAST-MODIFIED:20241008T041954Z
UID:3921-1732302000-1732312800@sdpost416.org
SUMMARY:BAND- Blues Farm
DESCRIPTION:
URL:https://sdpost416.org/event/band-blues-farm-2/
LOCATION:Post 416\, American Legion Post 416\, 210 W F St.\, Encinitas\, CA\, 92024\, United States
ATTACH;FMTTYPE=image/jpeg:https://sdpost416.org/wp-content/uploads/2024/08/IMG_7069.jpeg
END:VEVENT
BEGIN:VEVENT
DTSTART;TZID=America/Los_Angeles:20241123T193000
DTEND;TZID=America/Los_Angeles:20241123T220000
DTSTAMP:20260423T103310
CREATED:20241109T171654Z
LAST-MODIFIED:20241109T171654Z
UID:4021-1732390200-1732399200@sdpost416.org
SUMMARY:BAND- Mockingbird Jam
DESCRIPTION:
URL:https://sdpost416.org/event/band-mockingbird-jam-6/
LOCATION:Post 416\, American Legion Post 416\, 210 W F St.\, Encinitas\, CA\, 92024\, United States
ATTACH;FMTTYPE=image/jpeg:https://sdpost416.org/wp-content/uploads/2023/05/D3557B6F-F55A-43E9-9D57-80A46873E9A2.jpeg
END:VEVENT
BEGIN:VEVENT
DTSTART;TZID=America/Los_Angeles:20241124T080000
DTEND;TZID=America/Los_Angeles:20241124T170000
DTSTAMP:20260423T103310
CREATED:20241118T000134Z
LAST-MODIFIED:20241118T000134Z
UID:4066-1732435200-1732467600@sdpost416.org
SUMMARY:LeeAnn Atherton - 2 to 6pm\, Bbq @ Noon
DESCRIPTION:
URL:https://sdpost416.org/event/leeann-atherton-2-to-6pm-bbq-noon/
ATTACH;FMTTYPE=image/jpeg:https://sdpost416.org/wp-content/uploads/2024/11/American-001.jpg
END:VEVENT
BEGIN:VEVENT
DTSTART;TZID=America/Los_Angeles:20241125T080000
DTEND;TZID=America/Los_Angeles:20241125T170000
DTSTAMP:20260423T103310
CREATED:20241118T003404Z
LAST-MODIFIED:20241118T003404Z
UID:4072-1732521600-1732554000@sdpost416.org
SUMMARY:Football and Burgers
DESCRIPTION:
URL:https://sdpost416.org/event/football-and-burgers-4/
ATTACH;FMTTYPE=image/jpeg:https://sdpost416.org/wp-content/uploads/2024/09/Now-open-2.jpg
END:VEVENT
BEGIN:VEVENT
DTSTART;TZID=America/Los_Angeles:20241126T080000
DTEND;TZID=America/Los_Angeles:20241126T170000
DTSTAMP:20260423T103310
CREATED:20241126T190012Z
LAST-MODIFIED:20241126T190012Z
UID:4083-1732608000-1732640400@sdpost416.org
SUMMARY:Doug Allen and Pulled Pork Sandwiches
DESCRIPTION:
URL:https://sdpost416.org/event/doug-allen-and-pulled-pork-sandwiches/
ATTACH;FMTTYPE=image/png:https://sdpost416.org/wp-content/uploads/2024/01/Blue-And-Gray-Retro-Illustration-Live-Music-Festival-Poster_20240122_225848_0000.png
END:VEVENT
BEGIN:VEVENT
DTSTART;TZID=America/Los_Angeles:20241127T080000
DTEND;TZID=America/Los_Angeles:20241127T170000
DTSTAMP:20260423T103310
CREATED:20241126T190122Z
LAST-MODIFIED:20241126T190300Z
UID:4084-1732694400-1732726800@sdpost416.org
SUMMARY:ProCase and Nachos
DESCRIPTION:
URL:https://sdpost416.org/event/procase-and-nachos/
ATTACH;FMTTYPE=image/png:https://sdpost416.org/wp-content/uploads/2024/02/Instruments-Band-Instagram-Post-8-x-11-in_20240213_193634_0000.png
END:VEVENT
BEGIN:VEVENT
DTSTART;TZID=America/Los_Angeles:20241128T080000
DTEND;TZID=America/Los_Angeles:20241128T170000
DTSTAMP:20260423T103310
CREATED:20241111T041920Z
LAST-MODIFIED:20241117T014837Z
UID:4034-1732780800-1732813200@sdpost416.org
SUMMARY:Thanksgiving Dinner
DESCRIPTION:
URL:https://sdpost416.org/event/thanksgiving-dinner-2/
ATTACH;FMTTYPE=image/png:https://sdpost416.org/wp-content/uploads/2024/11/Orange-Yellow-Brown-Colorful-Creative-Thanksgiving-Dinner-Invitation-Flyer_20241115_134250_0000.png
END:VEVENT
BEGIN:VEVENT
DTSTART;TZID=America/Los_Angeles:20241129T080000
DTEND;TZID=America/Los_Angeles:20241129T170000
DTSTAMP:20260423T103310
CREATED:20241126T190220Z
LAST-MODIFIED:20241126T190220Z
UID:4085-1732867200-1732899600@sdpost416.org
SUMMARY:Fish Fry
DESCRIPTION:
URL:https://sdpost416.org/event/fish-fry-8/
ATTACH;FMTTYPE=image/jpeg:https://sdpost416.org/wp-content/uploads/2024/03/image0000013.jpg
END:VEVENT
BEGIN:VEVENT
DTSTART;TZID=America/Los_Angeles:20241129T190000
DTEND;TZID=America/Los_Angeles:20241129T220000
DTSTAMP:20260423T103310
CREATED:20240824T224137Z
LAST-MODIFIED:20241117T204536Z
UID:3773-1732906800-1732917600@sdpost416.org
SUMMARY:BAND- Craig Sherman
DESCRIPTION:
URL:https://sdpost416.org/event/band-waypine/
ATTACH;FMTTYPE=image/jpeg:https://sdpost416.org/wp-content/uploads/2024/08/IMG_8416.jpeg
END:VEVENT
BEGIN:VEVENT
DTSTART;TZID=America/Los_Angeles:20241130T080000
DTEND;TZID=America/Los_Angeles:20241130T170000
DTSTAMP:20260423T103310
CREATED:20241126T190405Z
LAST-MODIFIED:20241126T190405Z
UID:4086-1732953600-1732986000@sdpost416.org
SUMMARY:Stocked on Sushi
DESCRIPTION:
URL:https://sdpost416.org/event/stocked-on-sushi/
ATTACH;FMTTYPE=image/png:https://sdpost416.org/wp-content/uploads/2024/06/Black-Abstract-Premium-Taste-Sushi-Ads-Instagram-Post_20240624_153721_0000.png
END:VEVENT
BEGIN:VEVENT
DTSTART;TZID=America/Los_Angeles:20241130T190000
DTEND;TZID=America/Los_Angeles:20241130T220000
DTSTAMP:20260423T103310
CREATED:20240824T224921Z
LAST-MODIFIED:20240824T224921Z
UID:3775-1732993200-1733004000@sdpost416.org
SUMMARY:BAND- d’Shire Band
DESCRIPTION:
URL:https://sdpost416.org/event/band-dshire-band-2/
LOCATION:Post 416\, American Legion Post 416\, 210 W F St.\, Encinitas\, CA\, 92024\, United States
ATTACH;FMTTYPE=image/jpeg:https://sdpost416.org/wp-content/uploads/2024/08/IMG_7360.jpeg
END:VEVENT
BEGIN:VEVENT
DTSTART;TZID=America/Los_Angeles:20241201T080000
DTEND;TZID=America/Los_Angeles:20241201T170000
DTSTAMP:20260423T103310
CREATED:20241126T190525Z
LAST-MODIFIED:20241126T190525Z
UID:4087-1733040000-1733072400@sdpost416.org
SUMMARY:Happy Church and BBQ
DESCRIPTION:
URL:https://sdpost416.org/event/happy-church-and-bbq-2/
ATTACH;FMTTYPE=image/jpeg:https://sdpost416.org/wp-content/uploads/2024/02/8C540BBB-1.jpg
END:VEVENT
BEGIN:VEVENT
DTSTART;TZID=America/Los_Angeles:20241202T080000
DTEND;TZID=America/Los_Angeles:20241202T170000
DTSTAMP:20260423T103310
CREATED:20241202T231149Z
LAST-MODIFIED:20241202T231149Z
UID:4096-1733126400-1733158800@sdpost416.org
SUMMARY:Football and Burgers
DESCRIPTION:
URL:https://sdpost416.org/event/football-and-burgers-5/
ATTACH;FMTTYPE=image/jpeg:https://sdpost416.org/wp-content/uploads/2024/09/Now-open-2.jpg
END:VEVENT
BEGIN:VEVENT
DTSTART;TZID=America/Los_Angeles:20241202T080000
DTEND;TZID=America/Los_Angeles:20241202T170000
DTSTAMP:20260423T103310
CREATED:20241202T231746Z
LAST-MODIFIED:20241202T231746Z
UID:4101-1733126400-1733158800@sdpost416.org
SUMMARY:Fish Fry @ 5pm
DESCRIPTION:
URL:https://sdpost416.org/event/fish-fry-5pm-5/
ATTACH;FMTTYPE=image/jpeg:https://sdpost416.org/wp-content/uploads/2024/03/image0000013.jpg
END:VEVENT
BEGIN:VEVENT
DTSTART;TZID=America/Los_Angeles:20241202T080000
DTEND;TZID=America/Los_Angeles:20241202T170000
DTSTAMP:20260423T103310
CREATED:20241203T071001Z
LAST-MODIFIED:20241203T071001Z
UID:4103-1733126400-1733158800@sdpost416.org
SUMMARY:Calander for December 2nd to December 8th
DESCRIPTION: 
URL:https://sdpost416.org/event/calander-for-december-2nd-to-december-8th/
ATTACH;FMTTYPE=image/png:https://sdpost416.org/wp-content/uploads/2024/12/Copy-of-MONTH-OF-DECEMBER-WEEKLY-EVENTS_20241202_150408_0000.png
END:VEVENT
BEGIN:VEVENT
DTSTART;TZID=America/Los_Angeles:20241203T080000
DTEND;TZID=America/Los_Angeles:20241203T170000
DTSTAMP:20260423T103310
CREATED:20241202T231314Z
LAST-MODIFIED:20241202T231314Z
UID:4097-1733212800-1733245200@sdpost416.org
SUMMARY:Doug Allen @ 7pm and Ribs @ 5pm
DESCRIPTION:
URL:https://sdpost416.org/event/doug-allen-7pm-and-ribs-5pm/
ATTACH;FMTTYPE=image/png:https://sdpost416.org/wp-content/uploads/2024/01/Blue-And-Gray-Retro-Illustration-Live-Music-Festival-Poster_20240122_225848_0000.png
END:VEVENT
BEGIN:VEVENT
DTSTART;TZID=America/Los_Angeles:20241204T080000
DTEND;TZID=America/Los_Angeles:20241204T170000
DTSTAMP:20260423T103310
CREATED:20241202T231431Z
LAST-MODIFIED:20241202T231431Z
UID:4098-1733299200-1733331600@sdpost416.org
SUMMARY:Comedy Vets @ 7pm and Grilled Ham and Cheese Sandwiches and Turkey Soup @ 5pm
DESCRIPTION:
URL:https://sdpost416.org/event/comedy-vets-7pm-and-grilled-ham-and-cheese-sandwiches-and-turkey-soup-5pm/
ATTACH;FMTTYPE=image/jpeg:https://sdpost416.org/wp-content/uploads/2024/08/ecd0a631-1.jpg
END:VEVENT
BEGIN:VEVENT
DTSTART;TZID=America/Los_Angeles:20241204T080000
DTEND;TZID=America/Los_Angeles:20241204T170000
DTSTAMP:20260423T103310
CREATED:20241204T182102Z
LAST-MODIFIED:20241204T182102Z
UID:4109-1733299200-1733331600@sdpost416.org
SUMMARY:Auxiliary Meeting @ 6:30pm
DESCRIPTION:
URL:https://sdpost416.org/event/auxiliary-meeting-630pm/
ATTACH;FMTTYPE=image/png:https://sdpost416.org/wp-content/uploads/2024/12/Yellow-White-Modern-Simple-Weekly-Meeting-Instagram-Post_20241204_101405_0000.png
END:VEVENT
BEGIN:VEVENT
DTSTART;TZID=America/Los_Angeles:20241205T080000
DTEND;TZID=America/Los_Angeles:20241205T170000
DTSTAMP:20260423T103310
CREATED:20241202T231529Z
LAST-MODIFIED:20241202T231529Z
UID:4099-1733385600-1733418000@sdpost416.org
SUMMARY:Rock Star Bingo @ 7pm and Pizza
DESCRIPTION:
URL:https://sdpost416.org/event/rock-star-bingo-7pm-and-pizza/
ATTACH;FMTTYPE=image/jpeg:https://sdpost416.org/wp-content/uploads/2024/08/IMG_8197111.jpg
END:VEVENT
BEGIN:VEVENT
DTSTART;TZID=America/Los_Angeles:20241206T080000
DTEND;TZID=America/Los_Angeles:20241206T170000
DTSTAMP:20260423T103310
CREATED:20241202T231651Z
LAST-MODIFIED:20241202T231859Z
UID:4100-1733472000-1733504400@sdpost416.org
SUMMARY:Burn Your Own Steak @ 5pm
DESCRIPTION:
URL:https://sdpost416.org/event/burn-your-own-steak-5pm/
END:VEVENT
BEGIN:VEVENT
DTSTART;TZID=America/Los_Angeles:20241206T190000
DTEND;TZID=America/Los_Angeles:20241206T220000
DTSTAMP:20260423T103310
CREATED:20240824T225102Z
LAST-MODIFIED:20241117T225945Z
UID:3777-1733511600-1733522400@sdpost416.org
SUMMARY:BAND- 8 East Band
DESCRIPTION:
URL:https://sdpost416.org/event/band-8-east-band-6/
LOCATION:Post 416\, American Legion Post 416\, 210 W F St.\, Encinitas\, CA\, 92024\, United States
ATTACH;FMTTYPE=image/jpeg:https://sdpost416.org/wp-content/uploads/2024/08/IMG_8419.jpeg
END:VEVENT
BEGIN:VEVENT
DTSTART;TZID=America/Los_Angeles:20241207T190000
DTEND;TZID=America/Los_Angeles:20241207T220000
DTSTAMP:20260423T103310
CREATED:20240824T225140Z
LAST-MODIFIED:20241117T232146Z
UID:3778-1733598000-1733608800@sdpost416.org
SUMMARY:BAND-Dollar Bill Band
DESCRIPTION:
URL:https://sdpost416.org/event/band-dollar-bill-band-7/
LOCATION:Post 416\, American Legion Post 416\, 210 W F St.\, Encinitas\, CA\, 92024\, United States
ATTACH;FMTTYPE=image/jpeg:https://sdpost416.org/wp-content/uploads/2024/08/73853217229__097BE71C-365F-4908-B64E-C5F846531BE3-scaled.jpeg
END:VEVENT
BEGIN:VEVENT
DTSTART;TZID=America/Los_Angeles:20241209T080000
DTEND;TZID=America/Los_Angeles:20241209T170000
DTSTAMP:20260423T103310
CREATED:20241209T193702Z
LAST-MODIFIED:20241209T193702Z
UID:4114-1733731200-1733763600@sdpost416.org
SUMMARY:Football and Sals Cooking Burgers
DESCRIPTION:
URL:https://sdpost416.org/event/football-and-sals-cooking-burgers/
ATTACH;FMTTYPE=image/jpeg:https://sdpost416.org/wp-content/uploads/2024/09/Now-open-2.jpg
END:VEVENT
BEGIN:VEVENT
DTSTART;TZID=America/Los_Angeles:20241209T080000
DTEND;TZID=America/Los_Angeles:20241209T170000
DTSTAMP:20260423T103310
CREATED:20241209T193829Z
LAST-MODIFIED:20241209T193829Z
UID:4115-1733731200-1733763600@sdpost416.org
SUMMARY:E-Board Meeting @ 6pm and General Meeting @ 7pm
DESCRIPTION:
URL:https://sdpost416.org/event/e-board-meeting-6pm-and-general-meeting-7pm/
ATTACH;FMTTYPE=image/png:https://sdpost416.org/wp-content/uploads/2024/09/MEETING_20240902_225832_0000.png
END:VEVENT
BEGIN:VEVENT
DTSTART;TZID=America/Los_Angeles:20241210T080000
DTEND;TZID=America/Los_Angeles:20241210T170000
DTSTAMP:20260423T103310
CREATED:20241209T193946Z
LAST-MODIFIED:20241209T193946Z
UID:4116-1733817600-1733850000@sdpost416.org
SUMMARY:Doug Allen @ 7pm
DESCRIPTION:
URL:https://sdpost416.org/event/doug-allen-7pm/
ATTACH;FMTTYPE=image/png:https://sdpost416.org/wp-content/uploads/2024/01/Blue-And-Gray-Retro-Illustration-Live-Music-Festival-Poster_20240122_225848_0000.png
END:VEVENT
BEGIN:VEVENT
DTSTART;TZID=America/Los_Angeles:20241211T080000
DTEND;TZID=America/Los_Angeles:20241211T170000
DTSTAMP:20260423T103310
CREATED:20241209T194149Z
LAST-MODIFIED:20241209T194149Z
UID:4117-1733904000-1733936400@sdpost416.org
SUMMARY:Procase and Danny Dicarlo @ 7pm
DESCRIPTION:
URL:https://sdpost416.org/event/procase-and-danny-dicarlo-7pm/
ATTACH;FMTTYPE=image/png:https://sdpost416.org/wp-content/uploads/2024/02/Instruments-Band-Instagram-Post-8-x-11-in_20240213_193634_0000.png
END:VEVENT
END:VCALENDAR